BEGIN:VCALENDAR
VERSION:2.0
PRODID:-//ChamberMaster//Event Calendar 2.0//EN
METHOD:PUBLISH
X-PUBLISHED-TTL:P3D
REFRESH-INTERVAL:P3D
CALSCALE:GREGORIAN
BEGIN:VEVENT
DTSTART:20220422T230000Z
DTEND:20220423T020000Z
X-MICROSOFT-CDO-ALLDAYEVENT:FALSE
SUMMARY:Earth Day Celebration
DESCRIPTION:Discover the Desert at this FREE Event Featuring \n\nVendor Booths\, Compost Giveaway for Residents\, Recycled Art\n\nContest\, Raffles\, Desert Plants & Gardening Tips\, OHV Safety\n\nEducation\, Kids Activities\, Music\, Food and More!
X-ALT-DESC;FMTTYPE=text/html:Discover the Desert at this FREE Event Featuring&nbsp\;<br />\nVendor Booths\, Compost Giveaway for Residents\, Recycled Art<br />\nContest\, Raffles\, Desert Plants &amp\; Gardening Tips\, OHV Safety<br />\nEducation\, Kids Activities\, Music\, Food and More!&nbsp\;
LOCATION:The Harvey House 685 North 1st Avenue Barstow\, California 92311
UID:e.2819.6461
SEQUENCE:3
DTSTAMP:20260424T165116Z
URL:http://barstowca.chambermaster.com/events/details/earth-day-celebration-6461
END:VEVENT

END:VCALENDAR
