BEGIN:VCALENDAR
VERSION:2.0
PRODID:-//ChamberMaster//Event Calendar 2.0//EN
METHOD:PUBLISH
X-PUBLISHED-TTL:P3D
REFRESH-INTERVAL:P3D
CALSCALE:GREGORIAN
BEGIN:VEVENT
DTSTART:20220629T150000Z
DTEND:20220629T160000Z
X-MICROSOFT-CDO-ALLDAYEVENT:FALSE
SUMMARY:CANCELLED - Economic Development Committee
DESCRIPTION:The BACC Economic Development Committee is committed to promoting business development and economic growth through advocacy\, education\, innovation\, and collaboration.  The committee will serve as a conduit between the business community and the municipal government\; working as partners to develop a neutral climate and provide a forum where all members can contribute. We are dedicated to creating a more vibrant and proud community by encouraging the businesses and residents to seek available services and resources in an effort to improve the aesthetics and the quality of life in the City of Barstow.
X-ALT-DESC;FMTTYPE=text/html:<em><span style="font-family:arial\,sans-serif\;">The BACC Economic Development Committee is committed to promoting business development and economic growth through advocacy\, education\, innovation\, and collaboration.&nbsp\; The committee will serve as a conduit between the business community and the municipal government\; working as partners to develop a neutral climate and provide a forum where all members can contribute. We are dedicated to creating a more vibrant and proud community by encouraging the businesses and residents to seek available services and resources in an effort to improve the aesthetics and the quality of life in the City of Barstow.</span></em>
LOCATION:Council Chambers City of Barstow 220 East Mountain View Barstow\, California 92311
UID:e.2819.6406
SEQUENCE:3
DTSTAMP:20260422T045246Z
URL:http://barstowca.chambermaster.com/events/details/cancelled-economic-development-committee-6406
END:VEVENT

END:VCALENDAR
